BEGIN:VCALENDAR
VERSION:2.0
PRODID:-//Torbay Rambling Club - ECPv6.15.17.1//NONSGML v1.0//EN
CALSCALE:GREGORIAN
METHOD:PUBLISH
X-WR-CALNAME:Torbay Rambling Club
X-ORIGINAL-URL:https://test.torbayramblingclub.org.uk
X-WR-CALDESC:Events for Torbay Rambling Club
REFRESH-INTERVAL;VALUE=DURATION:PT1H
X-Robots-Tag:noindex
X-PUBLISHED-TTL:PT1H
BEGIN:VTIMEZONE
TZID:Europe/London
BEGIN:DAYLIGHT
TZOFFSETFROM:+0000
TZOFFSETTO:+0100
TZNAME:BST
DTSTART:20240331T010000
END:DAYLIGHT
BEGIN:STANDARD
TZOFFSETFROM:+0100
TZOFFSETTO:+0000
TZNAME:GMT
DTSTART:20241027T010000
END:STANDARD
BEGIN:DAYLIGHT
TZOFFSETFROM:+0000
TZOFFSETTO:+0100
TZNAME:BST
DTSTART:20250330T010000
END:DAYLIGHT
BEGIN:STANDARD
TZOFFSETFROM:+0100
TZOFFSETTO:+0000
TZNAME:GMT
DTSTART:20251026T010000
END:STANDARD
BEGIN:DAYLIGHT
TZOFFSETFROM:+0000
TZOFFSETTO:+0100
TZNAME:BST
DTSTART:20260329T010000
END:DAYLIGHT
BEGIN:STANDARD
TZOFFSETFROM:+0100
TZOFFSETTO:+0000
TZNAME:GMT
DTSTART:20261025T010000
END:STANDARD
END:VTIMEZONE
BEGIN:VEVENT
DTSTART;TZID=Europe/London:20250326T110000
DTEND;TZID=Europe/London:20250326T150000
DTSTAMP:20260421T125241
CREATED:20250221T120230Z
LAST-MODIFIED:20250221T173245Z
UID:27403-1742986800-1743001200@test.torbayramblingclub.org.uk
SUMMARY:Torquay to Goodrington
DESCRIPTION:Moderate 6 mile walk along the coast path from Torquay to Goodrington.
URL:https://test.torbayramblingclub.org.uk/event/torquay-to-goodrington/
LOCATION:Grand Hotel Torquay\, Sea Front\, Torquay\, TQ2 6NT
CATEGORIES:Coastal Walks,Linear Walks,Moderate Walks,Public Transport Walks,Walks,Walks 4-8 Miles,Wednesday Walks
END:VEVENT
BEGIN:VEVENT
DTSTART;TZID=Europe/London:20250312T110000
DTEND;TZID=Europe/London:20250312T150000
DTSTAMP:20260421T125241
CREATED:20250221T114906Z
LAST-MODIFIED:20250225T125101Z
UID:27392-1741777200-1741791600@test.torbayramblingclub.org.uk
SUMMARY:Brixham to Paignton via Churston Woods
DESCRIPTION:Moderate 5 mile walk from Brixham to Paignton via Churston Woods. \nCan be muddy in places. Gentle Pace. \nThe starting point is Brixham Bus Depot which is next to the car park in Middle Street. This is the exact location on W3W.
URL:https://test.torbayramblingclub.org.uk/event/brixham-to-paignton-via-churston-woods/
LOCATION:Brixham Bus Depot\, Middle Street\, Brixham\, TQ5 8EJ
CATEGORIES:Linear Walks,Moderate Walks,Public Transport Walks,Walks,Walks 4-8 Miles,Wednesday Walks
END:VEVENT
BEGIN:VEVENT
DTSTART;TZID=Europe/London:20250305T110000
DTEND;TZID=Europe/London:20250305T150000
DTSTAMP:20260421T125241
CREATED:20250221T113021Z
LAST-MODIFIED:20250221T173956Z
UID:27387-1741172400-1741186800@test.torbayramblingclub.org.uk
SUMMARY:Lupton House to Greenway\, Galmpton Creek and Churston Bridge
DESCRIPTION:Moderate 7 mile walk from Lupton House to Greeenway\, Glampton Creek and Churston Bridge. \nStarts at bus stop outside Lupton House. \nCare needed crossing busy main road. Can be muddy in places.
URL:https://test.torbayramblingclub.org.uk/event/lupton-house-to-greenway-galmpton-creek-and-churston-bridge/
LOCATION:Lupton House\, Brixham Road\, Brixham\, TQ5 0LD
CATEGORIES:Linear Walks,Moderate Walks,Public Transport Walks,Walks,Walks 4-8 Miles,Wednesday Walks
END:VEVENT
BEGIN:VEVENT
DTSTART;TZID=Europe/London:20250301T103000
DTEND;TZID=Europe/London:20250301T150000
DTSTAMP:20260421T125241
CREATED:20250221T122647Z
LAST-MODIFIED:20250221T174107Z
UID:27408-1740825000-1740841200@test.torbayramblingclub.org.uk
SUMMARY:Exeter Central Station to Marsh Barton Station
DESCRIPTION:Moderate 6 mile walk following the Exeter Green Circle across the river towards Exwick Cemetery and climbing up to Barley Valley Nature Reserve before dropping down towards Marsh Barton station. \nMight be muddy in places. Lead jointly by Howard B.
URL:https://test.torbayramblingclub.org.uk/event/exeter-central-station-to-marsh-barton-station/
LOCATION:Exeter Central Station\, Queen Street\, Exeter\, EX4 3SB
CATEGORIES:Linear Walks,Moderate Walks,Public Transport Walks,Saturday Walks,Walks,Walks 4-8 Miles
ORGANIZER;CN="Wanda H":MAILTO:wa.holl01@gmail.com
END:VEVENT
END:VCALENDAR