BEGIN:VCALENDAR
VERSION:2.0
PRODID:-//Torbay Rambling Club - ECPv6.15.17.1//NONSGML v1.0//EN
CALSCALE:GREGORIAN
METHOD:PUBLISH
X-ORIGINAL-URL:https://test.torbayramblingclub.org.uk
X-WR-CALDESC:Events for Torbay Rambling Club
REFRESH-INTERVAL;VALUE=DURATION:PT1H
X-Robots-Tag:noindex
X-PUBLISHED-TTL:PT1H
BEGIN:VTIMEZONE
TZID:Europe/London
BEGIN:DAYLIGHT
TZOFFSETFROM:+0000
TZOFFSETTO:+0100
TZNAME:BST
DTSTART:20240331T010000
END:DAYLIGHT
BEGIN:STANDARD
TZOFFSETFROM:+0100
TZOFFSETTO:+0000
TZNAME:GMT
DTSTART:20241027T010000
END:STANDARD
BEGIN:DAYLIGHT
TZOFFSETFROM:+0000
TZOFFSETTO:+0100
TZNAME:BST
DTSTART:20250330T010000
END:DAYLIGHT
BEGIN:STANDARD
TZOFFSETFROM:+0100
TZOFFSETTO:+0000
TZNAME:GMT
DTSTART:20251026T010000
END:STANDARD
BEGIN:DAYLIGHT
TZOFFSETFROM:+0000
TZOFFSETTO:+0100
TZNAME:BST
DTSTART:20260329T010000
END:DAYLIGHT
BEGIN:STANDARD
TZOFFSETFROM:+0100
TZOFFSETTO:+0000
TZNAME:GMT
DTSTART:20261025T010000
END:STANDARD
END:VTIMEZONE
BEGIN:VEVENT
DTSTART;TZID=Europe/London:20250521T110000
DTEND;TZID=Europe/London:20250521T150000
DTSTAMP:20260421T131639
CREATED:20250222T203000Z
LAST-MODIFIED:20250222T203501Z
UID:27485-1747825200-1747839600@test.torbayramblingclub.org.uk
SUMMARY:The SW Coast Path Circular from Brownstone
DESCRIPTION:A moderate 4 mile walk following the SW Coast Path from Brownstone Car Park. \nThe car park is free for National Trust members otherwise £2.20 in coins for up to 4 hours. \nHilly in places. Walking poles advised.
URL:https://test.torbayramblingclub.org.uk/event/the-sw-coast-path-circular-from-brownstone/
LOCATION:Brownstone Car Park\, Kingswear\, Dartmouth\, TQ6 0EQ
CATEGORIES:Car Share Walks,Clockwise Walks,Coastal Walks,Moderate Walks,Walks,Walks 4-8 Miles,Walks Under 4 Miles,Wednesday Walks
ORGANIZER;CN="David L":MAILTO:david.lamb4@ntlworld.com
END:VEVENT
BEGIN:VEVENT
DTSTART;TZID=Europe/London:20250411T120000
DTEND;TZID=Europe/London:20250411T150000
DTSTAMP:20260421T131639
CREATED:20250221T105256Z
LAST-MODIFIED:20250221T172958Z
UID:27372-1744372800-1744383600@test.torbayramblingclub.org.uk
SUMMARY:Paignton's Parks
DESCRIPTION:Easy 3 mile walk around some of Paignton’s parks\, starting at 12pm from Sainsburys Local near Oldway Mansion\, followed by an optional lunch at the Ship Inn\, Manor Road Paignton. Sylvia will need to book for lunch by Friday 7th April. \nN.B. Please do not park in Sainsburys Local Car Park as it is restricted to 2 hours.
URL:https://test.torbayramblingclub.org.uk/event/paigntons-parks/
LOCATION:Sainsbuys Local Paignton\, 227-231 Toquay Road\, Paignton\, TQ3 2HW
CATEGORIES:Easy Walks,Public Transport Walks,Social Walks,Walks,Walks Under 4 Miles
ORGANIZER;CN="Sylvia C":MAILTO:sylviacapey@hotmail.co.uk
END:VEVENT
BEGIN:VEVENT
DTSTART;TZID=Europe/London:20250307T110000
DTEND;TZID=Europe/London:20250307T130000
DTSTAMP:20260421T131639
CREATED:20250201T161235Z
LAST-MODIFIED:20250221T173923Z
UID:26848-1741345200-1741352400@test.torbayramblingclub.org.uk
SUMMARY:Torquay Sea Front to Torquay Harbour
DESCRIPTION:Easy 2.5 mile walk along Torquay Sea Front followed by coffee at Wetherspoons.
URL:https://test.torbayramblingclub.org.uk/event/torquay-sea-front-to-torquay-harbour/
LOCATION:Grand Hotel Torquay\, Sea Front\, Torquay\, TQ2 6NT
CATEGORIES:Social Walks,Walks,Walks Under 4 Miles
END:VEVENT
END:VCALENDAR